BEGIN:VCALENDAR
VERSION:2.0
PRODID:ics.py - http://git.io/lLljaA
BEGIN:VEVENT
DESCRIPTION:more info soon...
DTEND:20261210T220000Z
LOCATION:Amstelvlietstraat 4\, Amsterdam\, 1096 GG\, NL
DTSTART:20261210T190000Z
SUMMARY:Ruby Emma Sessions
UID:85424f10-2945-4dac-9e03-c4c72699d016@8542.org
END:VEVENT
END:VCALENDAR